View In:
ArcGIS JavaScript
ArcGIS Online Map Viewer
ArcGIS Earth
Service Description: These raster datasets represent modeled flood extents developed as part of the Resilient Florida Sea Level Rise (SLR) Vulnerability Assessment. The rasters depict potential inundation associated with multiple flood and sea level rise scenarios and are intended to support planning-level analysis of coastal flooding vulnerability.
Name: NatResResil/CTF_FD_CURR
Description:
Single Fused Map Cache: false
Extent:
XMin: 1084620.8272957054
YMin: 498223.0635547163
XMax: 1252239.8420134766
YMax: 737068.0240452986
Spatial Reference: 103024
(6441)
LatestVCSWkid(0)
Initial Extent:
XMin: 1084620.8272957054
YMin: 498223.0635547163
XMax: 1252239.8420134766
YMax: 737068.0240452986
Spatial Reference: 103024
(6441)
LatestVCSWkid(0)
Full Extent:
XMin: 1084620.8272957054
YMin: 498223.0635547163
XMax: 1252239.8420134766
YMax: 737068.0240452986
Spatial Reference: 103024
(6441)
LatestVCSWkid(0)
Pixel Size X: 9.334986339817956
Pixel Size Y: 9.334986339817958
Band Count: 1
Pixel Type: F32
RasterFunction Infos: {"rasterFunctionInfos": [{
"name": "None",
"description": "",
"help": ""
}]}
Mensuration Capabilities: Basic
Inspection Capabilities:
Has Histograms: true
Has Colormap: false
Has Multi Dimensions : false
Rendering Rule:
Min Scale: 0
Max Scale: 0
Copyright Text: Developed by Santa Rosa County BOCC in collaboration with the University of West Florida GeoData Center
as part of the Resilient Florida Sea Level Rise Vulnerability
Assessment, in coordination with the Florida Department of Environmental Protection.
Service Data Type: esriImageServiceDataTypeGeneric
Min Values: 7.822131919965614E-7
Max Values: 9.645437240600586
Mean Values: 2.6822803380499236
Standard Deviation Values: 1.4048864964676893
Object ID Field:
Fields:
None
Default Mosaic Method: Center
Allowed Mosaic Methods:
SortField:
SortValue: null
Mosaic Operator: First
Default Compression Quality: 75
Default Resampling Method: Bilinear
Max Record Count: null
Max Image Height: 4100
Max Image Width: 15000
Max Download Image Count: null
Max Mosaic Image Count: null
Allow Raster Function: true
Allow Copy: true
Allow Analysis: true
Allow Compute TiePoints: false
Supports Statistics: false
Supports Advanced Queries: false
Use StandardizedQueries: true
Raster Type Infos:
Name: Raster Dataset
Description: Supports all ArcGIS Raster Datasets
Help:
Has Raster Attribute Table: false
Edit Fields Info: null
Ownership Based AccessControl For Rasters: null
Child Resources:
Info
Histograms
Statistics
Key Properties
Legend
Raster Function Infos
Supported Operations:
Export Image
Identify
Measure
Compute Histograms
Compute Statistics Histograms
Get Samples
Compute Class Statistics
Query Boundary
Compute Pixel Location
Compute Angles
Validate
Project