These raster datasets represent modeled flood extents developed as part of the Resilient Florida Sea Level Rise (SLR) Vulnerability Assessment. The rasters depict potential inundation associated with multiple flood and sea level rise scenarios and are intended to support planning-level analysis of coastal flooding vulnerability.<\/SPAN><\/P><\/DIV><\/DIV><\/DIV>",
"serviceItemId": "df3bf23729874ad0a1fa7c8df4482c3f",
"name": "NatResResil/CTF_FD_CURR",
"description": "",
"extent": {
"xmin": 1084620.8272957054,
"ymin": 498223.0635547163,
"xmax": 1252239.8420134766,
"ymax": 737068.0240452986,
"spatialReference": {
"wkid": 103024,
"latestWkid": 6441
}
},
"initialExtent": {
"xmin": 1084620.8272957054,
"ymin": 498223.0635547163,
"xmax": 1252239.8420134766,
"ymax": 737068.0240452986,
"spatialReference": {
"wkid": 103024,
"latestWkid": 6441
}
},
"fullExtent": {
"xmin": 1084620.8272957054,
"ymin": 498223.0635547163,
"xmax": 1252239.8420134766,
"ymax": 737068.0240452986,
"spatialReference": {
"wkid": 103024,
"latestWkid": 6441
}
},
"sortableFields": "",
"bandCount": 1,
"pixelType": "F32",
"minValues": [
7.822131919965614E-7
],
"maxValues": [
9.645437240600586
],
"meanValues": [
2.6822803380499236
],
"stdvValues": [
1.4048864964676893
],
"serviceProperties": "Center<\/MosaicMethod>First<\/MosaicOperator>true<\/SortAscending><\/LockImageID><\/TileOrderField>0<\/TileOrderBase>0.000000<\/AvgImageSpacingX>0.000000<\/AvgImageSpacingY>0.0<\/ViewPointX>0.0<\/ViewPointY>0.0<\/ViewPointDefShiftX>0.0<\/ViewPointDefShiftY>None<\/CompressionMethod>75<\/CompressionQuality>0.010000<\/CompressionTolerance>Bilinear<\/SamplingMethod><\/ImageServiceProperties><\/ImageServer>",
"allowedFields": "",
"hasMultidimensions": false,
"pixelSizeX": 9.334986339817956,
"pixelSizeY": 9.334986339817958,
"meanPixelSize": 2.8453095269955675,
"datasetFormat": "FGDBR",
"uncompressedSize": 1837688864,
"blockWidth": 128,
"blockHeight": 128,
"compressionType": "NONE",
"bandNames": [
"Band_1"
],
"allowCopy": true,
"allowAnalysis": true,
"itemAccess": false,
"inspectionCapabilities": "",
"minPixelSize": 0,
"maxPixelSize": 0,
"copyrightText": "Developed by Santa Rosa County BOCC in collaboration with the University of West Florida GeoData Center\nas part of the Resilient Florida Sea Level Rise Vulnerability\nAssessment, in coordination with the Florida Department of Environmental Protection.",
"serviceDataType": "esriImageServiceDataTypeGeneric",
"serviceSourceType": "esriImageServiceSourceTypeDataset",
"objectIdField": "",
"fields": [],
"capabilities": "Image,Metadata,Mensuration",
"defaultMosaicMethod": "Center",
"allowedMosaicMethods": "",
"sortField": "",
"sortValue": null,
"sortAscending": true,
"mosaicOperator": "First",
"defaultCompressionQuality": 75,
"defaultResamplingMethod": "Bilinear",
"maxImageHeight": 4100,
"maxImageWidth": 15000,
"allowRasterFunction": true,
"rasterFunctionInfos": [
{
"name": "None",
"description": "",
"help": ""
}
],
"rasterTypeInfos": [
{
"name": "Raster Dataset",
"description": "Supports all ArcGIS Raster Datasets",
"help": ""
}
],
"mensurationCapabilities": "Basic",
"hasHistograms": true,
"hasColormap": false,
"hasRasterAttributeTable": false,
"minScale": 0,
"maxScale": 0,
"exportTilesAllowed": false,
"supportsStatistics": false,
"supportsAdvancedQueries": false,
"editFieldsInfo": null,
"ownershipBasedAccessControlForRasters": null,
"allowComputeTiePoints": false,
"useStandardizedQueries": true,
"advancedQueryCapabilities": {
"useStandardizedQueries": true,
"supportsStatistics": false,
"supportsOrderBy": false,
"supportsDistinct": false,
"supportsPagination": false
},
"spatialReference": {
"wkid": 103024,
"latestWkid": 6441
}
}