View In:
ArcGIS JavaScript
ArcGIS Online Map Viewer
ArcGIS Earth
ArcGIS Pro
Service Description:
Map Name: Exposure Analysis
Legend
All Layers and Tables
Layers:
Description: These raster datasets represent modeled flood extents developed as part of the
Resilient Florida Sea Level Rise (SLR) Vulnerability Assessment. The rasters depict
potential inundation associated with multiple flood and sea level rise scenarios and
are intended to support planning-level analysis of coastal flooding vulnerability.
Service Item Id: d44f3244526447459dc5c62c9d5854a5
Copyright Text: Developed by Santa Rosa County BOCC in collaboration with the University of West Florida GeoData Center
as part of the Resilient Florida Sea Level Rise Vulnerability
Assessment, in coordination with the Florida Department of Environmental Protection.
Spatial Reference:
102100
(3857)
LatestVCSWkid(0)
Single Fused Map Cache: true
Tile Info:
- Height: 256.0
- Width: 256.0
- DPI: 96.0
-
Levels of Detail: 24
-
Level ID: 1
[ Start Tile, End Tile ]
- Resolution: 78271.5169639999
- Scale: 2.95828763795777E8
-
Level ID: 2
[ Start Tile, End Tile ]
- Resolution: 39135.7584820001
- Scale: 1.47914381897889E8
-
Level ID: 3
[ Start Tile, End Tile ]
- Resolution: 19567.8792409999
- Scale: 7.3957190948944E7
-
Level ID: 4
[ Start Tile, End Tile ]
- Resolution: 9783.93962049996
- Scale: 3.6978595474472E7
-
Level ID: 5
[ Start Tile, End Tile ]
- Resolution: 4891.96981024998
- Scale: 1.8489297737236E7
- Format: Mixed
- Compression Quality: 75.0
- Origin: X: -2.0037508342787E7
Y: 2.0037508342787E7
- Spatial Reference: 102100
(3857)
LatestVCSWkid(0)
Storage Info:
- Storage Format: esriMapCacheStorageModeCompactV2
- Packet Size: 128
Initial Extent:
XMin: -9694287.746976044
YMin: 3563619.66616714
XMax: -9685303.0029746
YMax: 3570238.6506565623
Spatial Reference: 102100
(3857)
LatestVCSWkid(0)
Full Extent:
XMin: -9720521.608363371
YMin: 3547220.909211121
XMax: -9659058.186810683
YMax: 3633649.9562438997
Spatial Reference: 102100
(3857)
LatestVCSWkid(0)
Units: esriMeters
Supported Image Format Types: PNG32,PNG24,PNG,JPG,DIB,TIFF,EMF,PS,PDF,GIF,SVG,SVGZ,BMP
Document Info:
Title: Exposure Analysis
Author:
Comments:
Subject:
Category:
Keywords:
AntialiasingMode: None
TextAntialiasingMode: Force
Supports Dynamic Layers: false
MaxRecordCount: 1000
MaxSelectionCount: 2000
MaxImageHeight: 4096
MaxImageWidth: 4096
Supported Query Formats: JSON, geoJSON, PBF
Supports Query Data Elements: true
Min Scale: 577790.554289
Max Scale: 18055.954822
Min LOD: 10
Max LOD: 15
Supports Datum Transformation: true
Child Resources:
Info
Supported Operations:
QueryLegends
Return Updates