<?xml version="1.0" encoding="UTF-8" standalone="no"?>
<metadata xml:lang="en">
<Esri>
<CreaDate>20260602</CreaDate>
<CreaTime>12322400</CreaTime>
<ArcGISFormat>1.0</ArcGISFormat>
<SyncOnce>FALSE</SyncOnce>
<DataProperties>
<itemProps>
<itemName Sync="TRUE">SSF_RL_100YR_2070_IL_Depth_Connected</itemName>
<imsContentType Sync="TRUE">002</imsContentType>
<nativeExtBox>
<westBL Sync="TRUE">1085236.936396</westBL>
<eastBL Sync="TRUE">1249233.976437</eastBL>
<southBL Sync="TRUE">495403.897643</southBL>
<northBL Sync="TRUE">724979.216730</northBL>
<exTypeCode Sync="TRUE">1</exTypeCode>
</nativeExtBox>
</itemProps>
<coordRef>
<type Sync="TRUE">Projected</type>
<geogcsn Sync="TRUE">GCS_NAD_1983_2011</geogcsn>
<csUnits Sync="TRUE">Linear Unit: Foot_US (0.304801)</csUnits>
<projcsn Sync="TRUE">NAD_1983_2011_StatePlane_Florida_North_FIPS_0903_Ft_US</projcsn>
<peXml Sync="TRUE">&lt;ProjectedCoordinateSystem xsi:type='typens:ProjectedCoordinateSystem' xmlns:xsi='http://www.w3.org/2001/XMLSchema-instance' xmlns:xs='http://www.w3.org/2001/XMLSchema' xmlns:typens='http://www.esri.com/schemas/ArcGIS/3.7.0'&gt;&lt;WKT&gt;COMPOUNDCRS[&amp;quot;&amp;quot;,PROJCRS[&amp;quot;NAD_1983_2011_StatePlane_Florida_North_FIPS_0903_Ft_US&amp;quot;,BASEGEOGCRS[&amp;quot;GCS_NAD_1983_2011&amp;quot;,DATUM[&amp;quot;D_NAD_1983_2011&amp;quot;,ELLIPSOID[&amp;quot;GRS_1980&amp;quot;,6378137.0,298.257222101],ANCHOREPOCH[2010.0]],PRIMEM[&amp;quot;Greenwich&amp;quot;,0.0],CS[ellipsoidal,2],AXIS[&amp;quot;Latitude (lat)&amp;quot;,north,ORDER[1]],AXIS[&amp;quot;Longitude (lon)&amp;quot;,east,ORDER[2]],ANGLEUNIT[&amp;quot;Degree&amp;quot;,0.0174532925199433]],CONVERSION[&amp;quot;Lambert_Conformal_Conic&amp;quot;,METHOD[&amp;quot;Lambert_Conformal_Conic&amp;quot;],PARAMETER[&amp;quot;False_Easting&amp;quot;,1968500.0,LENGTHUNIT[&amp;quot;Foot_US&amp;quot;,0.3048006096012192]],PARAMETER[&amp;quot;False_Northing&amp;quot;,0.0,LENGTHUNIT[&amp;quot;Foot_US&amp;quot;,0.3048006096012192]],PARAMETER[&amp;quot;Central_Meridian&amp;quot;,-84.5],PARAMETER[&amp;quot;Standard_Parallel_1&amp;quot;,29.58333333333333],PARAMETER[&amp;quot;Standard_Parallel_2&amp;quot;,30.75],PARAMETER[&amp;quot;Latitude_Of_Origin&amp;quot;,29.0]],CS[Cartesian,2],AXIS[&amp;quot;Easting (X)&amp;quot;,east,ORDER[1]],AXIS[&amp;quot;Northing (Y)&amp;quot;,north,ORDER[2]],LENGTHUNIT[&amp;quot;Foot_US&amp;quot;,0.3048006096012192]],VERTCRS[&amp;quot;NAVD88_height_(ftUS)&amp;quot;,VDATUM[&amp;quot;North_American_Vertical_Datum_1988&amp;quot;],CS[vertical,1],AXIS[&amp;quot;Gravity-related height (H)&amp;quot;,up,LENGTHUNIT[&amp;quot;Foot_US&amp;quot;,0.3048006096012192]]]]&lt;/WKT&gt;&lt;XOrigin&gt;-125939000&lt;/XOrigin&gt;&lt;YOrigin&gt;-91453300&lt;/YOrigin&gt;&lt;XYScale&gt;35209816.682919256&lt;/XYScale&gt;&lt;ZOrigin&gt;-100000&lt;/ZOrigin&gt;&lt;ZScale&gt;10000&lt;/ZScale&gt;&lt;MOrigin&gt;-100000&lt;/MOrigin&gt;&lt;MScale&gt;10000&lt;/MScale&gt;&lt;XYTolerance&gt;0.0032808333333333331&lt;/XYTolerance&gt;&lt;ZTolerance&gt;0.001&lt;/ZTolerance&gt;&lt;MTolerance&gt;0.001&lt;/MTolerance&gt;&lt;HighPrecision&gt;true&lt;/HighPrecision&gt;&lt;WKID&gt;103024&lt;/WKID&gt;&lt;LatestWKID&gt;6441&lt;/LatestWKID&gt;&lt;VCSWKID&gt;105703&lt;/VCSWKID&gt;&lt;LatestVCSWKID&gt;6360&lt;/LatestVCSWKID&gt;&lt;/ProjectedCoordinateSystem&gt;</peXml>
</coordRef>
</DataProperties>
<SyncDate>20260602</SyncDate>
<SyncTime>12391300</SyncTime>
<ModDate>20260602</ModDate>
<ModTime>12492100</ModTime>
<scaleRange>
<minScale>150000000</minScale>
<maxScale>5000</maxScale>
</scaleRange>
<ArcGISProfile>FGDC</ArcGISProfile>
</Esri>
<mdChar>
<CharSetCd value="004">
</CharSetCd>
</mdChar>
<mdHrLv>
<ScopeCd value="005">
</ScopeCd>
</mdHrLv>
<mdDateSt Sync="TRUE">20260602</mdDateSt>
<mdStanName>ArcGIS Metadata</mdStanName>
<mdStanVer>1.0</mdStanVer>
<dataIdInfo>
<idCitation>
<resTitle>SSF_FD_100YR_2070_IL</resTitle>
<presForm>
<PresFormCd value="005">
</PresFormCd>
</presForm>
<presForm>
<fgdcGeoform>raster digital data</fgdcGeoform>
</presForm>
</idCitation>
<idAbs>&lt;div style='text-align:Left;'&gt;&lt;div&gt;&lt;div&gt;&lt;p&gt;&lt;span&gt;These raster datasets represent modeled flood extents developed as part of the Resilient Florida Sea Level Rise (SLR) Vulnerability Assessment. The rasters depict potential inundation associated with multiple flood and sea level rise scenarios and are intended to support planning-level analysis of coastal flooding vulnerability.&lt;/span&gt;&lt;/p&gt;&lt;/div&gt;&lt;/div&gt;&lt;/div&gt;</idAbs>
<idPurp>To support resilience planning, vulnerability assessment, and decision-making related
to sea level rise and coastal flooding. These data are intended for screening-level and
planning purposes only and are not suitable for site-specific engineering or regulatory use.</idPurp>
<idCredit>Developed by Santa Rosa County BOCC in collaboration with the University of West Florida GeoData Center
as part of the Resilient Florida Sea Level Rise Vulnerability
Assessment, in coordination with the Florida Department of Environmental Protection.</idCredit>
<themeKeys>
<keyword>Vulnerability Assessment</keyword>
<keyword>Resilient Florida</keyword>
<keyword>Planning</keyword>
<keyword>Sea Level Rise</keyword>
</themeKeys>
<searchKeys>
<keyword>Vulnerability Assessment</keyword>
<keyword>Resilient Florida</keyword>
<keyword>Planning</keyword>
<keyword>Sea Level Rise</keyword>
</searchKeys>
<spatRpType>
<SpatRepTypCd value="002">
</SpatRepTypCd>
</spatRpType>
<envirDesc>Esri ArcGIS 13.6.0.59527</envirDesc>
<dataExt>
<geoEle>
<GeoBndBox>
<exTypeCode>true</exTypeCode>
<westBL>-87.320926</westBL>
<eastBL>-86.768791</eastBL>
<northBL>31.006930</northBL>
<southBL>30.339157</southBL>
</GeoBndBox>
</geoEle>
</dataExt>
<dataLang>
<languageCode Sync="TRUE" value="eng">
</languageCode>
<countryCode Sync="TRUE" value="USA">
</countryCode>
</dataLang>
<dataExt>
<geoEle>
<GeoBndBox esriExtentType="search">
<exTypeCode Sync="TRUE">1</exTypeCode>
<westBL Sync="TRUE">-87.318008</westBL>
<eastBL Sync="TRUE">-86.780293</eastBL>
<northBL Sync="TRUE">30.973501</northBL>
<southBL Sync="TRUE">30.332398</southBL>
</GeoBndBox>
</geoEle>
</dataExt>
<tpCat>
<TopicCatCd value="015">
</TopicCatCd>
</tpCat>
</dataIdInfo>
<spatRepInfo>
<Georect>
<numDims>0</numDims>
<cellGeo>
<CellGeoCd value="002">
</CellGeoCd>
</cellGeo>
</Georect>
</spatRepInfo>
<mdLang>
<languageCode Sync="TRUE" value="eng">
</languageCode>
<countryCode Sync="TRUE" value="USA">
</countryCode>
</mdLang>
<distInfo>
<distFormat>
<formatName Sync="TRUE">File Geodatabase Raster Dataset</formatName>
</distFormat>
</distInfo>
<mdHrLvName Sync="TRUE">dataset</mdHrLvName>
<refSysInfo>
<RefSystem>
<refSysID>
<identCode Sync="TRUE" code="6441">
</identCode>
<idCodeSpace Sync="TRUE">EPSG</idCodeSpace>
<idVersion Sync="TRUE">8.2.10(10.3.1)</idVersion>
</refSysID>
</RefSystem>
</refSysInfo>
<spdoinfo>
<rastinfo>
<rasttype Sync="TRUE">Pixel</rasttype>
<rowcount Sync="TRUE">24593</rowcount>
<colcount Sync="TRUE">17568</colcount>
<rastxsz Sync="TRUE">9.334986</rastxsz>
<rastysz Sync="TRUE">9.334986</rastysz>
<rastbpp Sync="TRUE">32</rastbpp>
<vrtcount Sync="TRUE">1</vrtcount>
<rastorig Sync="TRUE">Upper Left</rastorig>
<rastcmap Sync="TRUE">FALSE</rastcmap>
<rastcomp Sync="TRUE">NONE</rastcomp>
<rastband Sync="TRUE">1</rastband>
<rastdtyp Sync="TRUE">pixel codes</rastdtyp>
<rastifor Sync="TRUE">FGDBR</rastifor>
<rastplyr Sync="TRUE">FALSE</rastplyr>
</rastinfo>
</spdoinfo>
<spref>
<horizsys>
<planar>
<planci>
<plance Sync="TRUE">row and column</plance>
<coordrep>
<absres Sync="TRUE">9.334986</absres>
<ordres Sync="TRUE">9.334986</ordres>
</coordrep>
</planci>
</planar>
</horizsys>
</spref>
</metadata>
